BEGIN:VCALENDAR
VERSION:2.0
PRODID:-//Kalender//
BEGIN:VEVENT
SUMMARY:4. Fachtagung Heizungstechnik Tag 2
DTSTART:20200219T080000Z
DTEND:20200219T140000Z
DTSTAMP:20260421T112042Z
UID:event_ical_eventmanagement_995
DESCRIPTION:Inhalt Tag 2: Gastechnik Praxis mit den Ausstellern Abgasmessu
 ngen vor Ort - was muss beachtet werden Dichtheitsprüfungen im TRGI Regel
 werk - Protokolle zur Belastungs- und Dichtheitsprüfung sowie der Gebrauc
 hsfähigkeitsprüfung an Gasleitungen Inbetriebnahme- und Einweisungsproto
 koll mit der Einweisung über den Betrieb der Anlage und Pflichten des Bet
 reibers Hinweise für Instandhaltungsmaßnahmen beim Kunden Heizölverbrau
 cheranlagen Praxis mit den Ausstellern Regelmäßige Schulung der Mitarbei
 ter nach der AwSV Praxisleitfaden für die Ausführung und Kundenbetreuung
  mit ausfüllbaren Protokollen in der Fachinformation Nr. 6 vom September 
 2017 Heizölanlagen im Bestand Tätigkeiten bei der Wartung Erneuerbare En
 ergien Praxis mit den Ausstellern Wärmepumpen\, Kontrollierte Wohnraumlü
 ftung\, Solarthermie Hinweise für Instandhaltungsmaßnahmen beim Kunden K
 ombination mit Gas und Ölheiztechnik Installation\, Instandhaltung und He
 izwasseraufbereitung Praxis mit den Ausstellern zu Fügetechniken\, Armatu
 ren und Brandschutz Beurteilung der Wasserqualität in der gesamten Anlage
  Tipps zu schalldämmenden Maßnahmen zur Installation im Gebäude Hinweis
 e für den Betreiber und der Instandhaltung Tätigkeiten und Dokumentation
  zur Wartung beim Kunden Betriebsanleitungen zu Zentralheizungsanlagen bis
  50 KW
LOCATION:ADAC Hessen-Thüringen e.V. Fahrsicherheits-Zentrum\, Gebreitestr
 aße 2\, 99428 Grammetal\, Deutschland
END:VEVENT
END:VCALENDAR
