BEGIN:VCALENDAR
VERSION:2.0
PRODID:-//Kalender//
BEGIN:VEVENT
SUMMARY:Brandenburger SHK Digitalforum
DTSTART:20210623T070000Z
DTEND:20210623T151500Z
DTSTAMP:20260421T084434Z
UID:event_ical_kalender_241
DESCRIPTION:Es gibt viele innovative Lösungen auf dem Markt\, die SHK-Bet
 rieben helfen können\, Zeit und Geld zu sparen oder die eigene Position a
 m Markt zu stärken. Der digitale Tag soll Ihnen innovative und digitale 
 Arbeitshilfen und Lösungen für SHK-Betriebe vorstellen und Ihnen einen 
 Überblick über die große und vielfältige Angebotspalette verschaffen. 
 Die Anmeldung ist kostenlos. Aus dem Inhalt: 09.15 – 09.45       
       Descript           Warum sollten Handwerksbetriebe onl
 ine sein und wozu benötigen sie eine Homepage? 09.55 – 10.35      
        Immersight      Digitale Kundenberatung mit dem 3D Showroo
 m &amp\; Bestandsaufnahmen mit dem 3D Workroom 11.05 – 11.35      
        HottScan          3D Raumerfassung 11.45 – 12.15  
            PaletteCAD       3D Badplanung 13.10 – 13.40 
             Thermregio      Unabhängiger Heizungsrechner u
 nd Bad-Budgetplaner 13.50 – 15.30             ZVSHK     
         Open DataPool\, Handwerksgeselle 4.0\, SHK-Wartungsportal 1
 5.40 – 16.10             Hiscox / Otto Maurer      Warum 
 sich Handwerksbetriebe um ihre IT-Sicherheit kümmern sollten 16.20 – 17
 .05             Basiknet           Arbeitssicherheit &
 amp\; Gefährdungsbeurteilung digital Zur Anmeldung: https://register.goto
 webinar.com/register/6386058507513171981
LOCATION:Fachverband SHK Land Brandenburg\, Am Neuen Markt 11\, 14467 Pots
 dam
END:VEVENT
END:VCALENDAR
